Workbook

Sheet FODA - Datos
B2: TEMA:
B4: Items que Intervienen en cada sección de su análisis FODA?
R5: Filtro
C6: FORTALEZAS | Q6: =+C6 -> FORTALEZAS | R6: COMPLETAR
C7: Item | D7: Descripcción | E7: Ponderación (de 0 a 10) | Q7: =+C7 -> Item | R7: COMPLETAR
C8: 1 | D8: dddddddd | E8: =M8 -> 1 | M8: 1 | P8: =IF(R8="COMPLETAR",M8," ") -> 1 | Q8: =+C8 -> 1 | R8: =IF(C8>'FODA - Datos'!$R$60,"NO INGRESE DATOS AQUÍ","COMPLETAR") -> COMPLETAR
C9: 2 | E9: =M9 -> 5 | M9: 5 | P9: =IF(R9="COMPLETAR",M9," ") -> 5 | Q9: =+C9 -> 2 | R9: =IF(C9>'FODA - Datos'!$R$60,"NO INGRESE DATOS AQUÍ","COMPLETAR") -> COMPLETAR
C10: 3 | E10: =M10 -> 7 | M10: 7 | P10: =IF(R10="COMPLETAR",M10," ") -> 7 | Q10: =+C10 -> 3 | R10: =IF(C10>'FODA - Datos'!$R$60,"NO INGRESE DATOS AQUÍ","COMPLETAR") -> COMPLETAR
C11: 4 | E11: =M11 -> 10 | M11: 10 | P11: =IF(R11="COMPLETAR",M11," ") -> 10 | Q11: =+C11 -> 4 | R11: =IF(C11>'FODA - Datos'!$R$60,"NO INGRESE DATOS AQUÍ","COMPLETAR") -> COMPLETAR
C12: 5 | E12: =M12 -> 10 | M12: 10 | P12: =IF(R12="COMPLETAR",M12," ") -> 10 | Q12: =+C12 -> 5 | R12: =IF(C12>'FODA - Datos'!$R$60,"NO INGRESE DATOS AQUÍ","COMPLETAR") -> COMPLETAR
C13: 6 | E13: =M13 -> 0 | M13: 0 | P13: =IF(R13="COMPLETAR",M13," ") -> 0 | Q13: =+C13 -> 6 | R13: =IF(C13>'FODA - Datos'!$R$60,"NO INGRESE DATOS AQUÍ","COMPLETAR") -> COMPLETAR
C14: 7 | E14: =M14 -> 0 | M14: 0 | P14: =IF(R14="COMPLETAR",M14," ") -> 0 | Q14: =+C14 -> 7 | R14: =IF(C14>'FODA - Datos'!$R$60,"NO INGRESE DATOS AQUÍ","COMPLETAR") -> COMPLETAR
C15: 8 | E15: =M15 -> 0 | M15: 0 | P15: =IF(R15="COMPLETAR",M15," ") -> 0 | Q15: =+C15 -> 8 | R15: =IF(C15>'FODA - Datos'!$R$60,"NO INGRESE DATOS AQUÍ","COMPLETAR") -> COMPLETAR
C16: 9 | E16: =M16 -> 0 | M16: 0 | P16: =IF(R16="COMPLETAR",M16," ") -> 0 | Q16: =+C16 -> 9 | R16: =IF(C16>'FODA - Datos'!$R$60,"NO INGRESE DATOS AQUÍ","COMPLETAR") -> COMPLETAR
C17: 10 | E17: =M17 -> 0 | M17: 0 | P17: =IF(R17="COMPLETAR",M17," ") -> 0 | Q17: =+C17 -> 10 | R17: =IF(C17>'FODA - Datos'!$R$60,"NO INGRESE DATOS AQUÍ","COMPLETAR") -> COMPLETAR
L18: =AVERAGE(P8:P17) -> 3.3 | Q18: xxx | R18: COMPLETAR
C19: OPORTUNIDADES | Q19: =+C19 -> OPORTUNIDADES | R19: COMPLETAR
C20: Item | D20: Descripcción | E20: Ponderación (de 0 a 10) | Q20: =+C20 -> Item | R20: COMPLETAR
C21: 1 | E21: =M21 -> 0 | M21: 0 | P21: =IF(R21="COMPLETAR",M21," ") -> 0 | Q21: =+C21 -> 1 | R21: =IF(C21>'FODA - Datos'!$R$60,"NO INGRESE DATOS AQUÍ","COMPLETAR") -> COMPLETAR
C22: 2 | E22: =M22 -> 0 | M22: 0 | P22: =IF(R22="COMPLETAR",M22," ") -> 0 | Q22: =+C22 -> 2 | R22: =IF(C22>'FODA - Datos'!$R$60,"NO INGRESE DATOS AQUÍ","COMPLETAR") -> COMPLETAR
C23: 3 | E23: =M23 -> 0 | M23: 0 | P23: =IF(R23="COMPLETAR",M23," ") -> 0 | Q23: =+C23 -> 3 | R23: =IF(C23>'FODA - Datos'!$R$60,"NO INGRESE DATOS AQUÍ","COMPLETAR") -> COMPLETAR
C24: 4 | E24: =M24 -> 0 | M24: 0 | P24: =IF(R24="COMPLETAR",M24," ") -> 0 | Q24: =+C24 -> 4 | R24: =IF(C24>'FODA - Datos'!$R$60,"NO INGRESE DATOS AQUÍ","COMPLETAR") -> COMPLETAR
C25: 5 | E25: =M25 -> 0 | M25: 0 | P25: =IF(R25="COMPLETAR",M25," ") -> 0 | Q25: =+C25 -> 5 | R25: =IF(C25>'FODA - Datos'!$R$60,"NO INGRESE DATOS AQUÍ","COMPLETAR") -> COMPLETAR
C26: 6 | E26: =M26 -> 0 | M26: 0 | P26: =IF(R26="COMPLETAR",M26," ") -> 0 | Q26: =+C26 -> 6 | R26: =IF(C26>'FODA - Datos'!$R$60,"NO INGRESE DATOS AQUÍ","COMPLETAR") -> COMPLETAR
C27: 7 | E27: =M27 -> 0 | M27: 0 | P27: =IF(R27="COMPLETAR",M27," ") -> 0 | Q27: =+C27 -> 7 | R27: =IF(C27>'FODA - Datos'!$R$60,"NO INGRESE DATOS AQUÍ","COMPLETAR") -> COMPLETAR
C28: 8 | E28: =M28 -> 0 | M28: 0 | P28: =IF(R28="COMPLETAR",M28," ") -> 0 | Q28: =+C28 -> 8 | R28: =IF(C28>'FODA - Datos'!$R$60,"NO INGRESE DATOS AQUÍ","COMPLETAR") -> COMPLETAR
C29: 9 | E29: =M29 -> 0 | M29: 0 | P29: =IF(R29="COMPLETAR",M29," ") -> 0 | Q29: =+C29 -> 9 | R29: =IF(C29>'FODA - Datos'!$R$60,"NO INGRESE DATOS AQUÍ","COMPLETAR") -> COMPLETAR
C30: 10 | E30: =M30 -> 0 | M30: 0 | P30: =IF(R30="COMPLETAR",M30," ") -> 0 | Q30: =+C30 -> 10 | R30: =IF(C30>'FODA - Datos'!$R$60,"NO INGRESE DATOS AQUÍ","COMPLETAR") -> COMPLETAR
L31: =AVERAGE(P21:P30) -> 0 | Q31: xxx | R31: COMPLETAR
C32: DEBILIDADES | Q32: =+C32 -> DEBILIDADES | R32: COMPLETAR
C33: Item | D33: Descripcción | E33: Ponderación (de 0 a 10) | Q33: =+C33 -> Item | R33: COMPLETAR
C34: 1 | E34: =M34 -> 9 | M34: 9 | P34: =IF(R34="COMPLETAR",M34," ") -> 9 | Q34: =+C34 -> 1 | R34: =IF(C34>'FODA - Datos'!$R$60,"NO INGRESE DATOS AQUÍ","COMPLETAR") -> COMPLETAR
C35: 2 | E35: =M35 -> 9 | M35: 9 | P35: =IF(R35="COMPLETAR",M35," ") -> 9 | Q35: =+C35 -> 2 | R35: =IF(C35>'FODA - Datos'!$R$60,"NO INGRESE DATOS AQUÍ","COMPLETAR") -> COMPLETAR
C36: 3 | E36: =M36 -> 8 | M36: 8 | P36: =IF(R36="COMPLETAR",M36," ") -> 8 | Q36: =+C36 -> 3 | R36: =IF(C36>'FODA - Datos'!$R$60,"NO INGRESE DATOS AQUÍ","COMPLETAR") -> COMPLETAR
C37: 4 | E37: =M37 -> 8 | M37: 8 | P37: =IF(R37="COMPLETAR",M37," ") -> 8 | Q37: =+C37 -> 4 | R37: =IF(C37>'FODA - Datos'!$R$60,"NO INGRESE DATOS AQUÍ","COMPLETAR") -> COMPLETAR
C38: 5 | E38: =M38 -> 5 | M38: 5 | P38: =IF(R38="COMPLETAR",M38," ") -> 5 | Q38: =+C38 -> 5 | R38: =IF(C38>'FODA - Datos'!$R$60,"NO INGRESE DATOS AQUÍ","COMPLETAR") -> COMPLETAR
C39: 6 | E39: =M39 -> 8 | M39: 8 | P39: =IF(R39="COMPLETAR",M39," ") -> 8 | Q39: =+C39 -> 6 | R39: =IF(C39>'FODA - Datos'!$R$60,"NO INGRESE DATOS AQUÍ","COMPLETAR") -> COMPLETAR
C40: 7 | E40: =M40 -> 0 | M40: 0 | P40: =IF(R40="COMPLETAR",M40," ") -> 0 | Q40: =+C40 -> 7 | R40: =IF(C40>'FODA - Datos'!$R$60,"NO INGRESE DATOS AQUÍ","COMPLETAR") -> COMPLETAR
C41: 8 | E41: =M41 -> 0 | M41: 0 | P41: =IF(R41="COMPLETAR",M41," ") -> 0 | Q41: =+C41 -> 8 | R41: =IF(C41>'FODA - Datos'!$R$60,"NO INGRESE DATOS AQUÍ","COMPLETAR") -> COMPLETAR
C42: 9 | E42: =M42 -> 0 | M42: 0 | P42: =IF(R42="COMPLETAR",M42," ") -> 0 | Q42: =+C42 -> 9 | R42: =IF(C42>'FODA - Datos'!$R$60,"NO INGRESE DATOS AQUÍ","COMPLETAR") -> COMPLETAR
...
